BEGIN:VCALENDAR
VERSION:2.0
PRODID:Events Booking
BEGIN:VEVENT
UID:69e6889db6bb3
SUMMARY:Walk to d'Feet MND - Penrith
DESCRIPTION:Teams made up of family\, friends\, colleagues and individuals\
 , regardless of age or fitness levels Walk to raise funds and awareness fo
 r research and support for people living with motor neurone disease.&nbsp\
 ;The Walk is approximately 5km and is wheelchair\, stroller and dogs on le
 ad friendly. The Walk will be held at the Sydney International Regatta Cen
 tre\, Gate A\, Old Castlereagh Rd\, Castlereagh. The Walk is held around t
 he competition lake.
LOCATION:297-305 Old Castlereagh Rd\, Castlereagh NSW 2749\, Australia
DTSTART:20220129T220000Z
DTSTAMP:20260420T201213Z
ORGANIZER;CN=MNDNSW Website - Events:MAILTO:info@mndnsw.org.au
GEO:-33.725539;150.6725
X-APPLE-STRUCTURED-LOCATION;VALUE=URI;X-ADDRESS=297-305 Old Castlereagh Rd\
 , Castlereagh NSW 2749\, Australia;X-APPLE-RADIUS=72;X-TITLE=Sydney Intern
 ational Regatta Centre:-33.725539;150.6725
END:VEVENT
END:VCALENDAR