BEGIN:VCALENDAR
VERSION:2.0
PRODID:Events Booking
BEGIN:VEVENT
UID:69e5ec75bed6b
SUMMARY:MND Charity Concert
DESCRIPTION:Variety Concert in support of MND NSW.
LOCATION:5 Lincoln St\, Charlestown NSW 2290
DTSTART:20220325T083000Z
DTSTAMP:20211215T134429Z
ORGANIZER;CN=MNDNSW Website - Events:MAILTO:info@mndnsw.org.au
GEO:-32.966787;151.693257
X-APPLE-STRUCTURED-LOCATION;VALUE=URI;X-ADDRESS=5 Lincoln St\, Charlestown 
 NSW 2290;X-APPLE-RADIUS=72;X-TITLE=Charlestown Bowling Club:-32.966787;151
 .693257
END:VEVENT
END:VCALENDAR