BEGIN:VCALENDAR
VERSION:2.0
PRODID:Events Booking
BEGIN:VEVENT
UID:69ea71e5dea31
SUMMARY:Dementia webinar 
DESCRIPTION:Communication with dementia - Live Webinar.
 This online infor
 mation session is provided by Dementia Australia.
DTSTART:20210830T040000Z
DTEND:20210830T050000Z
DTSTAMP:20260423T192421Z
ORGANIZER;CN=MNDNSW Website - Events:MAILTO:info@mndnsw.org.au
END:VEVENT
END:VCALENDAR