BEGIN:VCALENDAR
VERSION:2.0
PRODID:Events Booking
BEGIN:VEVENT
UID:69ea73cde9bae
SUMMARY:Understanding the NDIS - Mandarin
DESCRIPTION:Free online information session on Understanding the NDIS in Ma
 ndarin chinese.
 
 
 This session is provided&nbsp\;by Settlement Servi
 ce International (SSI)
 
 
DTSTART:20210817T000000Z
DTEND:20210817T013000Z
DTSTAMP:20260423T193229Z
ORGANIZER;CN=MNDNSW Website - Events:MAILTO:info@mndnsw.org.au
END:VEVENT
END:VCALENDAR