BEGIN:VCALENDAR
VERSION:2.0
PRODID:Events Booking
BEGIN:VEVENT
UID:69e530c25b937
SUMMARY:MND Upskill for Health Professionals - Lithgow
DESCRIPTION:This full day practical workshop is for health professionals wh
 o are supporting people with MND.&nbsp\;
LOCATION:3-7 Tank Street Lithgow
DTSTART:20240325T223000Z
DTEND:20240326T043000Z
DTSTAMP:20230924T195422Z
ORGANIZER;CN=MNDNSW Website - Events:MAILTO:info@mndnsw.org.au
GEO:-33.478101;150.1623
X-APPLE-STRUCTURED-LOCATION;VALUE=URI;X-ADDRESS=3-7 Tank Street Lithgow;X-A
 PPLE-RADIUS=72;X-TITLE=Lithgow Workies Club:-33.478101;150.1623
END:VEVENT
END:VCALENDAR