BEGIN:VCALENDAR
VERSION:2.0
PRODID:Events Booking
BEGIN:VEVENT
UID:69e6ee892954e
SUMMARY:Dying to Know Day
DESCRIPTION:Dying to Know Day&nbsp\;is an annual campaign from the Groundsw
 ell Project where people are encouraged to start conversations about death
 .
DTSTART:20210808T000000Z
DTEND:20210808T070000Z
DTSTAMP:20260421T032705Z
ORGANIZER;CN=MNDNSW Website - Events:MAILTO:info@mndnsw.org.au
END:VEVENT
END:VCALENDAR