BEGIN:VCALENDAR
VERSION:2.0
PRODID:Events Booking
BEGIN:VEVENT
UID:69ea70c9f394e
SUMMARY:Illawarra Support Group - Online
DESCRIPTION:The Illawarra Support Group meets monthly in the Warrawong area
  or online.
 Venue for this group is Online
DTSTART:20210818T000000Z
DTEND:20210818T020000Z
DTSTAMP:20260423T191937Z
ORGANIZER;CN=MNDNSW Website - Events:MAILTO:info@mndnsw.org.au
END:VEVENT
END:VCALENDAR