BEGIN:VCALENDAR
VERSION:2.0
PRODID:Events Booking
BEGIN:VEVENT
UID:69e9fbed7fb8a
SUMMARY:North West Support Group 
DESCRIPTION:The North West Support Group currently meets bi-monthly and is 
 held online with your MND Advisor Savannah.&nbsp\;
DTSTART:20220220T230000Z
DTEND:20220221T000000Z
DTSTAMP:20220118T165251Z
ORGANIZER;CN=MNDNSW Website - Events:MAILTO:info@mndnsw.org.au
END:VEVENT
END:VCALENDAR