BEGIN:VCALENDAR
VERSION:2.0
PRODID:Events Booking
BEGIN:VEVENT
UID:69e9b91a4fc28
SUMMARY:Westfield Tuggerah MND Week Stall
DESCRIPTION:Our wonderful volunteers will be hosting a stall for MND Week a
 t Westfield Tuggerah. Pop by and say hi to learn more about motor neurone 
 disease\, and how your support is so vital to helping us continue to assis
 t people living with motor neurone disease. Merchandise will be available\
 , and your donations at the stall big or small to help us raise much-neede
 d funds are most appreciated.
LOCATION:Westfield Shopping Centre\, 50 Wyong Rd\, Tuggerah NSW 2259\, Aust
 ralia
DTSTART:20220620T000000Z
DTEND:20220624T050000Z
DTSTAMP:20220609T151949Z
ORGANIZER;CN=MNDNSW Website - Events:MAILTO:info@mndnsw.org.au
GEO:-33.308391;151.413401
X-APPLE-STRUCTURED-LOCATION;VALUE=URI;X-ADDRESS=Westfield Shopping Centre\,
  50 Wyong Rd\, Tuggerah NSW 2259\, Australia;X-APPLE-RADIUS=72;X-TITLE=Wes
 tfield Tuggerah:-33.308391;151.413401
END:VEVENT
END:VCALENDAR