BEGIN:VCALENDAR
VERSION:2.0
PRODID:Events Booking
BEGIN:VEVENT
UID:69e9978f38f7c
SUMMARY:Carer Wellness Program - Dementia
DESCRIPTION:This group session is designed to support positive health and w
 ellbeing outcomes for a carer\, family or friend of a person living with d
 ementia.
 This webinar is provided by Dementia Australia.&nbsp\;
DTSTART:20220826T020000Z
DTEND:20220826T040000Z
DTSTAMP:20220728T184512Z
ORGANIZER;CN=MNDNSW Website - Events:MAILTO:info@mndnsw.org.au
END:VEVENT
END:VCALENDAR