BEGIN:VCALENDAR
VERSION:2.0
PRODID:Events Booking
BEGIN:VEVENT
UID:69e7cd59e1af3
SUMMARY:MND Upskill for Carers - Darwin
DESCRIPTION:This workshop is for formal (paid) and informal (unpaid) carers
  who are supporting a person living with MND.&nbsp\;
 Location: Darwin Sa
 iling Club\, 3 Atkins Drive\, Darwin.
LOCATION:8 Atkins Dr\, Frannie Bay\, NT 0820
DTSTART:20240604T233000Z
DTEND:20240605T053000Z
DTSTAMP:20230924T203803Z
ORGANIZER;CN=MNDNSW Website - Events:MAILTO:info@mndnsw.org.au
GEO:-12.428614;130.835695
X-APPLE-STRUCTURED-LOCATION;VALUE=URI;X-ADDRESS=8 Atkins Dr\, Frannie Bay\,
  NT 0820;X-APPLE-RADIUS=72;X-TITLE=Darwin Sailing Club:-12.428614;130.8356
 95
END:VEVENT
END:VCALENDAR