BEGIN:VCALENDAR
VERSION:2.0
PRODID:Events Booking
BEGIN:VEVENT
UID:69ea4936d40cf
SUMMARY:Kitchen Table Conversations
DESCRIPTION:Carers Kitchen Table Conversations - an opportunity for carers 
 to&nbsp\;share some time with other MND carers as we talk about our day&nb
 sp\;to day lives.
DTSTART:20211027T233000Z
DTEND:20211028T010000Z
DTSTAMP:20260423T163046Z
ORGANIZER;CN=MNDNSW Website - Events:MAILTO:info@mndnsw.org.au
END:VEVENT
END:VCALENDAR