BEGIN:VCALENDAR
VERSION:2.0
PRODID:Events Booking
BEGIN:VEVENT
UID:69e9dc3fe9f04
SUMMARY:Virtual Walk to d'Feet MND - Even MND won’t stop our dad telling 
 his Irish jokes!
DESCRIPTION:
LOCATION:North Curl Curl
DTSTART:20220409T233000Z
DTSTAMP:20220404T195338Z
ORGANIZER;CN=MNDNSW Website - Events:MAILTO:info@mndnsw.org.au
GEO:-33.763111;151.296527
X-APPLE-STRUCTURED-LOCATION;VALUE=URI;X-ADDRESS=North Curl Curl;X-APPLE-RAD
 IUS=72;X-TITLE=North Curl Curl:-33.763111;151.296527
END:VEVENT
END:VCALENDAR